BEGIN:VCALENDAR
VERSION:2.0
PRODID:-//DANC&#039;ART - ECPv5.16.1.1//NONSGML v1.0//EN
CALSCALE:GREGORIAN
METHOD:PUBLISH
X-WR-CALNAME:DANC&#039;ART
X-ORIGINAL-URL:https://www.dancart.fr
X-WR-CALDESC:évènements pour DANC&#039;ART
REFRESH-INTERVAL;VALUE=DURATION:PT1H
X-Robots-Tag:noindex
X-PUBLISHED-TTL:PT1H
BEGIN:VTIMEZONE
TZID:Europe/Paris
BEGIN:DAYLIGHT
TZOFFSETFROM:+0100
TZOFFSETTO:+0200
TZNAME:CEST
DTSTART:20240331T010000
END:DAYLIGHT
BEGIN:STANDARD
TZOFFSETFROM:+0200
TZOFFSETTO:+0100
TZNAME:CET
DTSTART:20241027T010000
END:STANDARD
END:VTIMEZONE
BEGIN:VEVENT
DTSTART;TZID=Europe/Paris:20241028T200000
DTEND;TZID=Europe/Paris:20241028T220000
DTSTAMP:20260419T153854
CREATED:20240604T100533Z
LAST-MODIFIED:20240805T163956Z
UID:20690-1730145600-1730152800@www.dancart.fr
SUMMARY:Lundi - Cours de Lady Styling Bachata avec Mélissa Taddei
DESCRIPTION:𝗩𝗘𝗡𝗘𝗭 𝗗𝗘𝗖𝗢𝗨𝗩𝗥𝗜𝗥 𝗟𝗘 𝗟𝗔𝗗𝗬 𝗦𝗧𝗬𝗟𝗜𝗡𝗚 𝗕𝗔𝗖𝗛𝗔𝗧𝗔\nA VILLENEUVE D’ASCQ avec MELISSA TADDEI\nby ➖ www.dancart.fr ➖\n.\n✅ Tous les Lundis \n 20h00 – 21h00 Cours Intermédiaire de Lady Styling Bachata\n 21h00 – 22h00 Cours Initiation/Débutant Lady Styling Bachata\n.. \nPAS DE COURS PENDANT LES VACANCES SCOLAIRES \n🔗 Ouvert à toutes\n👠 réservé aux femmes\n🚗 PARKING\n🪞 Miroir\n👗 Vestiaire\n.\n📍 SALLE DE DANSE : 12 Chemin des Vieux Arbres VILLENEUVE D’ASCQ \n〰️〰️〰️ ☎ Infos contact 〰️〰️〰️\n☎ Recevez nos « alertes SMS LADY » envoyez « LADY » accompagné de votre nom et prénom au 06 725 726 00 (non surtaxé) \nJe m’inscris aux cours! \n@dancart_official @Danc’art Lille Tourcoing \n#bachatalille #lille #bachata #dance #ladystyling #ONESTLAAAAA #dancartlille
URL:https://www.dancart.fr/cours-de-danse/lundi-cours-de-lady-styling-bachata-avec-melissa-taddei/2024-10-28/
LOCATION:Salle de Danse Villeneuve D’ascq\, 12 Chemin Des Vieux Arbres\, Villeneuve d'Ascq\, 59650\, France
CATEGORIES:Bachata,Lady Styling
ATTACH;FMTTYPE=image/jpeg:https://www.dancart.fr/wp-content/uploads/2024/06/image_6483441-7.jpg
END:VEVENT
BEGIN:VEVENT
DTSTART;TZID=Europe/Paris:20241021T200000
DTEND;TZID=Europe/Paris:20241021T220000
DTSTAMP:20260419T153854
CREATED:20240604T100533Z
LAST-MODIFIED:20240805T163956Z
UID:20689-1729540800-1729548000@www.dancart.fr
SUMMARY:Lundi - Cours de Lady Styling Bachata avec Mélissa Taddei
DESCRIPTION:𝗩𝗘𝗡𝗘𝗭 𝗗𝗘𝗖𝗢𝗨𝗩𝗥𝗜𝗥 𝗟𝗘 𝗟𝗔𝗗𝗬 𝗦𝗧𝗬𝗟𝗜𝗡𝗚 𝗕𝗔𝗖𝗛𝗔𝗧𝗔\nA VILLENEUVE D’ASCQ avec MELISSA TADDEI\nby ➖ www.dancart.fr ➖\n.\n✅ Tous les Lundis \n 20h00 – 21h00 Cours Intermédiaire de Lady Styling Bachata\n 21h00 – 22h00 Cours Initiation/Débutant Lady Styling Bachata\n.. \nPAS DE COURS PENDANT LES VACANCES SCOLAIRES \n🔗 Ouvert à toutes\n👠 réservé aux femmes\n🚗 PARKING\n🪞 Miroir\n👗 Vestiaire\n.\n📍 SALLE DE DANSE : 12 Chemin des Vieux Arbres VILLENEUVE D’ASCQ \n〰️〰️〰️ ☎ Infos contact 〰️〰️〰️\n☎ Recevez nos « alertes SMS LADY » envoyez « LADY » accompagné de votre nom et prénom au 06 725 726 00 (non surtaxé) \nJe m’inscris aux cours! \n@dancart_official @Danc’art Lille Tourcoing \n#bachatalille #lille #bachata #dance #ladystyling #ONESTLAAAAA #dancartlille
URL:https://www.dancart.fr/cours-de-danse/lundi-cours-de-lady-styling-bachata-avec-melissa-taddei/2024-10-21/
LOCATION:Salle de Danse Villeneuve D’ascq\, 12 Chemin Des Vieux Arbres\, Villeneuve d'Ascq\, 59650\, France
CATEGORIES:Bachata,Lady Styling
ATTACH;FMTTYPE=image/jpeg:https://www.dancart.fr/wp-content/uploads/2024/06/image_6483441-7.jpg
END:VEVENT
BEGIN:VEVENT
DTSTART;TZID=Europe/Paris:20241014T200000
DTEND;TZID=Europe/Paris:20241014T220000
DTSTAMP:20260419T153854
CREATED:20240604T100533Z
LAST-MODIFIED:20240805T163955Z
UID:20688-1728936000-1728943200@www.dancart.fr
SUMMARY:Lundi - Cours de Lady Styling Bachata avec Mélissa Taddei
DESCRIPTION:𝗩𝗘𝗡𝗘𝗭 𝗗𝗘𝗖𝗢𝗨𝗩𝗥𝗜𝗥 𝗟𝗘 𝗟𝗔𝗗𝗬 𝗦𝗧𝗬𝗟𝗜𝗡𝗚 𝗕𝗔𝗖𝗛𝗔𝗧𝗔\nA VILLENEUVE D’ASCQ avec MELISSA TADDEI\nby ➖ www.dancart.fr ➖\n.\n✅ Tous les Lundis \n 20h00 – 21h00 Cours Intermédiaire de Lady Styling Bachata\n 21h00 – 22h00 Cours Initiation/Débutant Lady Styling Bachata\n.. \nPAS DE COURS PENDANT LES VACANCES SCOLAIRES \n🔗 Ouvert à toutes\n👠 réservé aux femmes\n🚗 PARKING\n🪞 Miroir\n👗 Vestiaire\n.\n📍 SALLE DE DANSE : 12 Chemin des Vieux Arbres VILLENEUVE D’ASCQ \n〰️〰️〰️ ☎ Infos contact 〰️〰️〰️\n☎ Recevez nos « alertes SMS LADY » envoyez « LADY » accompagné de votre nom et prénom au 06 725 726 00 (non surtaxé) \nJe m’inscris aux cours! \n@dancart_official @Danc’art Lille Tourcoing \n#bachatalille #lille #bachata #dance #ladystyling #ONESTLAAAAA #dancartlille
URL:https://www.dancart.fr/cours-de-danse/lundi-cours-de-lady-styling-bachata-avec-melissa-taddei/2024-10-14/
LOCATION:Salle de Danse Villeneuve D’ascq\, 12 Chemin Des Vieux Arbres\, Villeneuve d'Ascq\, 59650\, France
CATEGORIES:Bachata,Lady Styling
ATTACH;FMTTYPE=image/jpeg:https://www.dancart.fr/wp-content/uploads/2024/06/image_6483441-7.jpg
END:VEVENT
BEGIN:VEVENT
DTSTART;TZID=Europe/Paris:20241007T200000
DTEND;TZID=Europe/Paris:20241007T220000
DTSTAMP:20260419T153854
CREATED:20240604T100533Z
LAST-MODIFIED:20240805T163955Z
UID:20687-1728331200-1728338400@www.dancart.fr
SUMMARY:Lundi - Cours de Lady Styling Bachata avec Mélissa Taddei
DESCRIPTION:𝗩𝗘𝗡𝗘𝗭 𝗗𝗘𝗖𝗢𝗨𝗩𝗥𝗜𝗥 𝗟𝗘 𝗟𝗔𝗗𝗬 𝗦𝗧𝗬𝗟𝗜𝗡𝗚 𝗕𝗔𝗖𝗛𝗔𝗧𝗔\nA VILLENEUVE D’ASCQ avec MELISSA TADDEI\nby ➖ www.dancart.fr ➖\n.\n✅ Tous les Lundis \n 20h00 – 21h00 Cours Intermédiaire de Lady Styling Bachata\n 21h00 – 22h00 Cours Initiation/Débutant Lady Styling Bachata\n.. \nPAS DE COURS PENDANT LES VACANCES SCOLAIRES \n🔗 Ouvert à toutes\n👠 réservé aux femmes\n🚗 PARKING\n🪞 Miroir\n👗 Vestiaire\n.\n📍 SALLE DE DANSE : 12 Chemin des Vieux Arbres VILLENEUVE D’ASCQ \n〰️〰️〰️ ☎ Infos contact 〰️〰️〰️\n☎ Recevez nos « alertes SMS LADY » envoyez « LADY » accompagné de votre nom et prénom au 06 725 726 00 (non surtaxé) \nJe m’inscris aux cours! \n@dancart_official @Danc’art Lille Tourcoing \n#bachatalille #lille #bachata #dance #ladystyling #ONESTLAAAAA #dancartlille
URL:https://www.dancart.fr/cours-de-danse/lundi-cours-de-lady-styling-bachata-avec-melissa-taddei/2024-10-07/
LOCATION:Salle de Danse Villeneuve D’ascq\, 12 Chemin Des Vieux Arbres\, Villeneuve d'Ascq\, 59650\, France
CATEGORIES:Bachata,Lady Styling
ATTACH;FMTTYPE=image/jpeg:https://www.dancart.fr/wp-content/uploads/2024/06/image_6483441-7.jpg
END:VEVENT
BEGIN:VEVENT
DTSTART;TZID=Europe/Paris:20240930T200000
DTEND;TZID=Europe/Paris:20240930T220000
DTSTAMP:20260419T153854
CREATED:20240604T100533Z
LAST-MODIFIED:20240805T163955Z
UID:20686-1727726400-1727733600@www.dancart.fr
SUMMARY:Lundi - Cours de Lady Styling Bachata avec Mélissa Taddei
DESCRIPTION:𝗩𝗘𝗡𝗘𝗭 𝗗𝗘𝗖𝗢𝗨𝗩𝗥𝗜𝗥 𝗟𝗘 𝗟𝗔𝗗𝗬 𝗦𝗧𝗬𝗟𝗜𝗡𝗚 𝗕𝗔𝗖𝗛𝗔𝗧𝗔\nA VILLENEUVE D’ASCQ avec MELISSA TADDEI\nby ➖ www.dancart.fr ➖\n.\n✅ Tous les Lundis \n 20h00 – 21h00 Cours Intermédiaire de Lady Styling Bachata\n 21h00 – 22h00 Cours Initiation/Débutant Lady Styling Bachata\n.. \nPAS DE COURS PENDANT LES VACANCES SCOLAIRES \n🔗 Ouvert à toutes\n👠 réservé aux femmes\n🚗 PARKING\n🪞 Miroir\n👗 Vestiaire\n.\n📍 SALLE DE DANSE : 12 Chemin des Vieux Arbres VILLENEUVE D’ASCQ \n〰️〰️〰️ ☎ Infos contact 〰️〰️〰️\n☎ Recevez nos « alertes SMS LADY » envoyez « LADY » accompagné de votre nom et prénom au 06 725 726 00 (non surtaxé) \nJe m’inscris aux cours! \n@dancart_official @Danc’art Lille Tourcoing \n#bachatalille #lille #bachata #dance #ladystyling #ONESTLAAAAA #dancartlille
URL:https://www.dancart.fr/cours-de-danse/lundi-cours-de-lady-styling-bachata-avec-melissa-taddei/2024-09-30/
LOCATION:Salle de Danse Villeneuve D’ascq\, 12 Chemin Des Vieux Arbres\, Villeneuve d'Ascq\, 59650\, France
CATEGORIES:Bachata,Lady Styling
ATTACH;FMTTYPE=image/jpeg:https://www.dancart.fr/wp-content/uploads/2024/06/image_6483441-7.jpg
END:VEVENT
BEGIN:VEVENT
DTSTART;TZID=Europe/Paris:20240923T200000
DTEND;TZID=Europe/Paris:20240923T220000
DTSTAMP:20260419T153854
CREATED:20240604T100533Z
LAST-MODIFIED:20240805T163955Z
UID:20685-1727121600-1727128800@www.dancart.fr
SUMMARY:Lundi - Cours de Lady Styling Bachata avec Mélissa Taddei
DESCRIPTION:𝗩𝗘𝗡𝗘𝗭 𝗗𝗘𝗖𝗢𝗨𝗩𝗥𝗜𝗥 𝗟𝗘 𝗟𝗔𝗗𝗬 𝗦𝗧𝗬𝗟𝗜𝗡𝗚 𝗕𝗔𝗖𝗛𝗔𝗧𝗔\nA VILLENEUVE D’ASCQ avec MELISSA TADDEI\nby ➖ www.dancart.fr ➖\n.\n✅ Tous les Lundis \n 20h00 – 21h00 Cours Intermédiaire de Lady Styling Bachata\n 21h00 – 22h00 Cours Initiation/Débutant Lady Styling Bachata\n.. \nPAS DE COURS PENDANT LES VACANCES SCOLAIRES \n🔗 Ouvert à toutes\n👠 réservé aux femmes\n🚗 PARKING\n🪞 Miroir\n👗 Vestiaire\n.\n📍 SALLE DE DANSE : 12 Chemin des Vieux Arbres VILLENEUVE D’ASCQ \n〰️〰️〰️ ☎ Infos contact 〰️〰️〰️\n☎ Recevez nos « alertes SMS LADY » envoyez « LADY » accompagné de votre nom et prénom au 06 725 726 00 (non surtaxé) \nJe m’inscris aux cours! \n@dancart_official @Danc’art Lille Tourcoing \n#bachatalille #lille #bachata #dance #ladystyling #ONESTLAAAAA #dancartlille
URL:https://www.dancart.fr/cours-de-danse/lundi-cours-de-lady-styling-bachata-avec-melissa-taddei/2024-09-23/
LOCATION:Salle de Danse Villeneuve D’ascq\, 12 Chemin Des Vieux Arbres\, Villeneuve d'Ascq\, 59650\, France
CATEGORIES:Bachata,Lady Styling
ATTACH;FMTTYPE=image/jpeg:https://www.dancart.fr/wp-content/uploads/2024/06/image_6483441-7.jpg
END:VEVENT
BEGIN:VEVENT
DTSTART;TZID=Europe/Paris:20240922T140000
DTEND;TZID=Europe/Paris:20240922T163000
DTSTAMP:20260419T153854
CREATED:20240815T154458Z
LAST-MODIFIED:20240816T154440Z
UID:27509-1727013600-1727022600@www.dancart.fr
SUMMARY:Dimanche - Stage de Bachata Heels avec Mélissa
DESCRIPTION:💃🏻STAGE BACHATA HEELS🕺🏿 \n📆 Rendez-vous ce dimanche 22 Septembre de 14h à 16h30 pour un stage de Bachata Heels avec Mélissa à Lille. \n🤩 Niveau intermédiaire en Bachata requis \n✅ Au programme : un atelier chorégraphique mélangeant Bachata & Heels pour améliorer votre styling et gagner en confiance❤️‍🔥 \n🖤 DRESS CODE NOIR\, ELEGANCE & TRANSPARENCE \nℹ️ INFOS IMPORTANTES : \n🕦 14h à 16h30 \n📍Maison de Quartier Les Moulins – 1 Rue Armand Carrel LILLE \n🗒️ Pré-inscription obligatoire en envoyant STAGEBACHAHEELS + nom et prénom par SMS 0672572600 \n💰20€ – Paiement sur place | CB non acceptée \nVoir l’événement \n#stage #bachata #heels #styling #chorégraphie #lille #lillemaville #workshop
URL:https://www.dancart.fr/cours-de-danse/dimanche-stage-de-bacha-heels-avec-melissa/
LOCATION:Maison de Quartier – Les moulins\, 1 rue Armand Carrel\, Lille\, 59000\, France
CATEGORIES:Bachata,Heels,Lady Styling,STAGES & EVENEMENTS
ATTACH;FMTTYPE=image/jpeg:https://www.dancart.fr/wp-content/uploads/2024/08/IMG_2467.jpg
END:VEVENT
BEGIN:VEVENT
DTSTART;TZID=Europe/Paris:20240916T200000
DTEND;TZID=Europe/Paris:20240916T220000
DTSTAMP:20260419T153854
CREATED:20240604T100533Z
LAST-MODIFIED:20240805T163955Z
UID:20684-1726516800-1726524000@www.dancart.fr
SUMMARY:Lundi - Cours de Lady Styling Bachata avec Mélissa Taddei
DESCRIPTION:𝗩𝗘𝗡𝗘𝗭 𝗗𝗘𝗖𝗢𝗨𝗩𝗥𝗜𝗥 𝗟𝗘 𝗟𝗔𝗗𝗬 𝗦𝗧𝗬𝗟𝗜𝗡𝗚 𝗕𝗔𝗖𝗛𝗔𝗧𝗔\nA VILLENEUVE D’ASCQ avec MELISSA TADDEI\nby ➖ www.dancart.fr ➖\n.\n✅ Tous les Lundis \n 20h00 – 21h00 Cours Intermédiaire de Lady Styling Bachata\n 21h00 – 22h00 Cours Initiation/Débutant Lady Styling Bachata\n.. \nPAS DE COURS PENDANT LES VACANCES SCOLAIRES \n🔗 Ouvert à toutes\n👠 réservé aux femmes\n🚗 PARKING\n🪞 Miroir\n👗 Vestiaire\n.\n📍 SALLE DE DANSE : 12 Chemin des Vieux Arbres VILLENEUVE D’ASCQ \n〰️〰️〰️ ☎ Infos contact 〰️〰️〰️\n☎ Recevez nos « alertes SMS LADY » envoyez « LADY » accompagné de votre nom et prénom au 06 725 726 00 (non surtaxé) \nJe m’inscris aux cours! \n@dancart_official @Danc’art Lille Tourcoing \n#bachatalille #lille #bachata #dance #ladystyling #ONESTLAAAAA #dancartlille
URL:https://www.dancart.fr/cours-de-danse/lundi-cours-de-lady-styling-bachata-avec-melissa-taddei/2024-09-16/
LOCATION:Salle de Danse Villeneuve D’ascq\, 12 Chemin Des Vieux Arbres\, Villeneuve d'Ascq\, 59650\, France
CATEGORIES:Bachata,Lady Styling
ATTACH;FMTTYPE=image/jpeg:https://www.dancart.fr/wp-content/uploads/2024/06/image_6483441-7.jpg
END:VEVENT
BEGIN:VEVENT
DTSTART;TZID=Europe/Paris:20240909T200000
DTEND;TZID=Europe/Paris:20240909T220000
DTSTAMP:20260419T153854
CREATED:20240604T100533Z
LAST-MODIFIED:20240805T163954Z
UID:20683-1725912000-1725919200@www.dancart.fr
SUMMARY:Lundi - Cours de Lady Styling Bachata avec Mélissa Taddei
DESCRIPTION:𝗩𝗘𝗡𝗘𝗭 𝗗𝗘𝗖𝗢𝗨𝗩𝗥𝗜𝗥 𝗟𝗘 𝗟𝗔𝗗𝗬 𝗦𝗧𝗬𝗟𝗜𝗡𝗚 𝗕𝗔𝗖𝗛𝗔𝗧𝗔\nA VILLENEUVE D’ASCQ avec MELISSA TADDEI\nby ➖ www.dancart.fr ➖\n.\n✅ Tous les Lundis \n 20h00 – 21h00 Cours Intermédiaire de Lady Styling Bachata\n 21h00 – 22h00 Cours Initiation/Débutant Lady Styling Bachata\n.. \nPAS DE COURS PENDANT LES VACANCES SCOLAIRES \n🔗 Ouvert à toutes\n👠 réservé aux femmes\n🚗 PARKING\n🪞 Miroir\n👗 Vestiaire\n.\n📍 SALLE DE DANSE : 12 Chemin des Vieux Arbres VILLENEUVE D’ASCQ \n〰️〰️〰️ ☎ Infos contact 〰️〰️〰️\n☎ Recevez nos « alertes SMS LADY » envoyez « LADY » accompagné de votre nom et prénom au 06 725 726 00 (non surtaxé) \nJe m’inscris aux cours! \n@dancart_official @Danc’art Lille Tourcoing \n#bachatalille #lille #bachata #dance #ladystyling #ONESTLAAAAA #dancartlille
URL:https://www.dancart.fr/cours-de-danse/lundi-cours-de-lady-styling-bachata-avec-melissa-taddei/2024-09-09/
LOCATION:Salle de Danse Villeneuve D’ascq\, 12 Chemin Des Vieux Arbres\, Villeneuve d'Ascq\, 59650\, France
CATEGORIES:Bachata,Lady Styling
ATTACH;FMTTYPE=image/jpeg:https://www.dancart.fr/wp-content/uploads/2024/06/image_6483441-7.jpg
END:VEVENT
BEGIN:VEVENT
DTSTART;TZID=Europe/Paris:20240902T200000
DTEND;TZID=Europe/Paris:20240902T220000
DTSTAMP:20260419T153854
CREATED:20240604T100533Z
LAST-MODIFIED:20240805T163954Z
UID:20669-1725307200-1725314400@www.dancart.fr
SUMMARY:Lundi - Cours de Lady Styling Bachata avec Mélissa Taddei
DESCRIPTION:𝗩𝗘𝗡𝗘𝗭 𝗗𝗘𝗖𝗢𝗨𝗩𝗥𝗜𝗥 𝗟𝗘 𝗟𝗔𝗗𝗬 𝗦𝗧𝗬𝗟𝗜𝗡𝗚 𝗕𝗔𝗖𝗛𝗔𝗧𝗔\nA VILLENEUVE D’ASCQ avec MELISSA TADDEI\nby ➖ www.dancart.fr ➖\n.\n✅ Tous les Lundis \n 20h00 – 21h00 Cours Intermédiaire de Lady Styling Bachata\n 21h00 – 22h00 Cours Initiation/Débutant Lady Styling Bachata\n.. \nPAS DE COURS PENDANT LES VACANCES SCOLAIRES \n🔗 Ouvert à toutes\n👠 réservé aux femmes\n🚗 PARKING\n🪞 Miroir\n👗 Vestiaire\n.\n📍 SALLE DE DANSE : 12 Chemin des Vieux Arbres VILLENEUVE D’ASCQ \n〰️〰️〰️ ☎ Infos contact 〰️〰️〰️\n☎ Recevez nos « alertes SMS LADY » envoyez « LADY » accompagné de votre nom et prénom au 06 725 726 00 (non surtaxé) \nJe m’inscris aux cours! \n@dancart_official @Danc’art Lille Tourcoing \n#bachatalille #lille #bachata #dance #ladystyling #ONESTLAAAAA #dancartlille
URL:https://www.dancart.fr/cours-de-danse/lundi-cours-de-lady-styling-bachata-avec-melissa-taddei/
LOCATION:Salle de Danse Villeneuve D’ascq\, 12 Chemin Des Vieux Arbres\, Villeneuve d'Ascq\, 59650\, France
CATEGORIES:Bachata,Lady Styling
ATTACH;FMTTYPE=image/jpeg:https://www.dancart.fr/wp-content/uploads/2024/06/image_6483441-7.jpg
END:VEVENT
BEGIN:VEVENT
DTSTART;TZID=Europe/Paris:20240617T200000
DTEND;TZID=Europe/Paris:20240617T210000
DTSTAMP:20260419T153854
CREATED:20220702T144518Z
LAST-MODIFIED:20240604T144716Z
UID:19870-1718654400-1718658000@www.dancart.fr
SUMMARY:Lundi - Cours de Lady Styling Bachata avec Melissa Taddei
DESCRIPTION:𝗩𝗘𝗡𝗘𝗭 𝗗𝗘𝗖𝗢𝗨𝗩𝗥𝗜𝗥 𝗟𝗘 𝗟𝗔𝗗𝗬 𝗦𝗧𝗬𝗟𝗜𝗡𝗚 𝗕𝗔𝗖𝗛𝗔𝗧𝗔\nA VILLENEUVE D’ASCQ avec MELISSA TADDEI\nby ➖ www.dancart.fr ➖\n.\n✅ Tous les Lundis\n▪️20h00 cours Lady Styling bachata\n.\n🔗 Ouvert à toutes\n👠 réservé aux femmes\n🚗 PARKING\n🍹 BAR (licence 4)\n🪞 Miroir\n👗 Vestiaire\n.\n📍 SALLE DE DANSE : 12 Chemin des Vieux Arbres VILLENEUVE D’ASCQ \n〰️〰️〰️ ☎ Infos contact 〰️〰️〰️\nRecevez nos « alertes SMS » envoyez « 𝗦𝗠𝗦 » au 06 725 726 00 (non surtaxé)\n〰️〰️ Boutique tenues DANC’ART 〰️〰️\n〰️〰️ https://store.dancart.fr 〰️〰️\n.\n#bachatalille #lille #bachata #dance #ladystyling #ONESTLAAAAA #dancartlille \nJe m’inscris aux cours!
URL:https://www.dancart.fr/cours-de-danse/lundi-cours-de-%f0%9d%97%9f%f0%9d%97%94%f0%9d%97%97%f0%9d%97%ac-%f0%9d%97%a6%f0%9d%97%a7%f0%9d%97%ac%f0%9d%97%9f%f0%9d%97%9c%f0%9d%97%a1%f0%9d%97%9a-%f0%9d%97%95%f0%9d%97%94%f0%9d%97%96%f0%9d%97%9b-54/2024-06-17/
LOCATION:Salle de Danse Villeneuve D’ascq\, 12 Chemin Des Vieux Arbres\, Villeneuve d'Ascq\, 59650\, France
CATEGORIES:Bachata,Lady Styling
ATTACH;FMTTYPE=image/jpeg:https://www.dancart.fr/wp-content/uploads/2022/07/LILLE-MELISSA-TADDEI-1.jpg
END:VEVENT
BEGIN:VEVENT
DTSTART;TZID=Europe/Paris:20240610T200000
DTEND;TZID=Europe/Paris:20240610T210000
DTSTAMP:20260419T153854
CREATED:20220702T144518Z
LAST-MODIFIED:20240604T094931Z
UID:19869-1718049600-1718053200@www.dancart.fr
SUMMARY:Lundi - Cours de Lady Styling Bachata avec Melissa Taddei
DESCRIPTION:𝗩𝗘𝗡𝗘𝗭 𝗗𝗘𝗖𝗢𝗨𝗩𝗥𝗜𝗥 𝗟𝗘 𝗟𝗔𝗗𝗬 𝗦𝗧𝗬𝗟𝗜𝗡𝗚 𝗕𝗔𝗖𝗛𝗔𝗧𝗔\nA VILLENEUVE D’ASCQ avec MELISSA TADDEI\nby ➖ www.dancart.fr ➖\n.\n✅ Tous les Lundis\n▪️20h00 cours Lady Styling bachata\n.\n🔗 Ouvert à toutes\n👠 réservé aux femmes\n🚗 PARKING\n🍹 BAR (licence 4)\n🪞 Miroir\n👗 Vestiaire\n.\n📍 SALLE DE DANSE : 12 Chemin des Vieux Arbres VILLENEUVE D’ASCQ \n〰️〰️〰️ ☎ Infos contact 〰️〰️〰️\nRecevez nos « alertes SMS » envoyez « 𝗦𝗠𝗦 » au 06 725 726 00 (non surtaxé)\n〰️〰️ Boutique tenues DANC’ART 〰️〰️\n〰️〰️ https://store.dancart.fr 〰️〰️\n.\n#bachatalille #lille #bachata #dance #ladystyling #ONESTLAAAAA #dancartlille \nJe m’inscris aux cours!
URL:https://www.dancart.fr/cours-de-danse/lundi-cours-de-%f0%9d%97%9f%f0%9d%97%94%f0%9d%97%97%f0%9d%97%ac-%f0%9d%97%a6%f0%9d%97%a7%f0%9d%97%ac%f0%9d%97%9f%f0%9d%97%9c%f0%9d%97%a1%f0%9d%97%9a-%f0%9d%97%95%f0%9d%97%94%f0%9d%97%96%f0%9d%97%9b-54/2024-06-10/
LOCATION:Salle de Danse Villeneuve D’ascq\, 12 Chemin Des Vieux Arbres\, Villeneuve d'Ascq\, 59650\, France
CATEGORIES:Bachata,Lady Styling
ATTACH;FMTTYPE=image/jpeg:https://www.dancart.fr/wp-content/uploads/2022/07/LILLE-MELISSA-TADDEI-1.jpg
END:VEVENT
BEGIN:VEVENT
DTSTART;TZID=Europe/Paris:20240603T200000
DTEND;TZID=Europe/Paris:20240603T210000
DTSTAMP:20260419T153854
CREATED:20220702T144518Z
LAST-MODIFIED:20240604T094931Z
UID:19868-1717444800-1717448400@www.dancart.fr
SUMMARY:Lundi - Cours de Lady Styling Bachata avec Melissa Taddei
DESCRIPTION:𝗩𝗘𝗡𝗘𝗭 𝗗𝗘𝗖𝗢𝗨𝗩𝗥𝗜𝗥 𝗟𝗘 𝗟𝗔𝗗𝗬 𝗦𝗧𝗬𝗟𝗜𝗡𝗚 𝗕𝗔𝗖𝗛𝗔𝗧𝗔\nA VILLENEUVE D’ASCQ avec MELISSA TADDEI\nby ➖ www.dancart.fr ➖\n.\n✅ Tous les Lundis\n▪️20h00 cours Lady Styling bachata\n.\n🔗 Ouvert à toutes\n👠 réservé aux femmes\n🚗 PARKING\n🍹 BAR (licence 4)\n🪞 Miroir\n👗 Vestiaire\n.\n📍 SALLE DE DANSE : 12 Chemin des Vieux Arbres VILLENEUVE D’ASCQ \n〰️〰️〰️ ☎ Infos contact 〰️〰️〰️\nRecevez nos « alertes SMS » envoyez « 𝗦𝗠𝗦 » au 06 725 726 00 (non surtaxé)\n〰️〰️ Boutique tenues DANC’ART 〰️〰️\n〰️〰️ https://store.dancart.fr 〰️〰️\n.\n#bachatalille #lille #bachata #dance #ladystyling #ONESTLAAAAA #dancartlille \nJe m’inscris aux cours!
URL:https://www.dancart.fr/cours-de-danse/lundi-cours-de-%f0%9d%97%9f%f0%9d%97%94%f0%9d%97%97%f0%9d%97%ac-%f0%9d%97%a6%f0%9d%97%a7%f0%9d%97%ac%f0%9d%97%9f%f0%9d%97%9c%f0%9d%97%a1%f0%9d%97%9a-%f0%9d%97%95%f0%9d%97%94%f0%9d%97%96%f0%9d%97%9b-54/2024-06-03/
LOCATION:Salle de Danse Villeneuve D’ascq\, 12 Chemin Des Vieux Arbres\, Villeneuve d'Ascq\, 59650\, France
CATEGORIES:Bachata,Lady Styling
ATTACH;FMTTYPE=image/jpeg:https://www.dancart.fr/wp-content/uploads/2022/07/LILLE-MELISSA-TADDEI-1.jpg
END:VEVENT
BEGIN:VEVENT
DTSTART;TZID=Europe/Paris:20240527T200000
DTEND;TZID=Europe/Paris:20240527T210000
DTSTAMP:20260419T153854
CREATED:20220702T144518Z
LAST-MODIFIED:20240604T094931Z
UID:19867-1716840000-1716843600@www.dancart.fr
SUMMARY:Lundi - Cours de Lady Styling Bachata avec Melissa Taddei
DESCRIPTION:𝗩𝗘𝗡𝗘𝗭 𝗗𝗘𝗖𝗢𝗨𝗩𝗥𝗜𝗥 𝗟𝗘 𝗟𝗔𝗗𝗬 𝗦𝗧𝗬𝗟𝗜𝗡𝗚 𝗕𝗔𝗖𝗛𝗔𝗧𝗔\nA VILLENEUVE D’ASCQ avec MELISSA TADDEI\nby ➖ www.dancart.fr ➖\n.\n✅ Tous les Lundis\n▪️20h00 cours Lady Styling bachata\n.\n🔗 Ouvert à toutes\n👠 réservé aux femmes\n🚗 PARKING\n🍹 BAR (licence 4)\n🪞 Miroir\n👗 Vestiaire\n.\n📍 SALLE DE DANSE : 12 Chemin des Vieux Arbres VILLENEUVE D’ASCQ \n〰️〰️〰️ ☎ Infos contact 〰️〰️〰️\nRecevez nos « alertes SMS » envoyez « 𝗦𝗠𝗦 » au 06 725 726 00 (non surtaxé)\n〰️〰️ Boutique tenues DANC’ART 〰️〰️\n〰️〰️ https://store.dancart.fr 〰️〰️\n.\n#bachatalille #lille #bachata #dance #ladystyling #ONESTLAAAAA #dancartlille \nJe m’inscris aux cours!
URL:https://www.dancart.fr/cours-de-danse/lundi-cours-de-%f0%9d%97%9f%f0%9d%97%94%f0%9d%97%97%f0%9d%97%ac-%f0%9d%97%a6%f0%9d%97%a7%f0%9d%97%ac%f0%9d%97%9f%f0%9d%97%9c%f0%9d%97%a1%f0%9d%97%9a-%f0%9d%97%95%f0%9d%97%94%f0%9d%97%96%f0%9d%97%9b-54/2024-05-27/
LOCATION:Salle de Danse Villeneuve D’ascq\, 12 Chemin Des Vieux Arbres\, Villeneuve d'Ascq\, 59650\, France
CATEGORIES:Bachata,Lady Styling
ATTACH;FMTTYPE=image/jpeg:https://www.dancart.fr/wp-content/uploads/2022/07/LILLE-MELISSA-TADDEI-1.jpg
END:VEVENT
BEGIN:VEVENT
DTSTART;TZID=Europe/Paris:20240520T200000
DTEND;TZID=Europe/Paris:20240520T210000
DTSTAMP:20260419T153854
CREATED:20220702T144518Z
LAST-MODIFIED:20240604T094931Z
UID:19866-1716235200-1716238800@www.dancart.fr
SUMMARY:Lundi - Cours de Lady Styling Bachata avec Melissa Taddei
DESCRIPTION:𝗩𝗘𝗡𝗘𝗭 𝗗𝗘𝗖𝗢𝗨𝗩𝗥𝗜𝗥 𝗟𝗘 𝗟𝗔𝗗𝗬 𝗦𝗧𝗬𝗟𝗜𝗡𝗚 𝗕𝗔𝗖𝗛𝗔𝗧𝗔\nA VILLENEUVE D’ASCQ avec MELISSA TADDEI\nby ➖ www.dancart.fr ➖\n.\n✅ Tous les Lundis\n▪️20h00 cours Lady Styling bachata\n.\n🔗 Ouvert à toutes\n👠 réservé aux femmes\n🚗 PARKING\n🍹 BAR (licence 4)\n🪞 Miroir\n👗 Vestiaire\n.\n📍 SALLE DE DANSE : 12 Chemin des Vieux Arbres VILLENEUVE D’ASCQ \n〰️〰️〰️ ☎ Infos contact 〰️〰️〰️\nRecevez nos « alertes SMS » envoyez « 𝗦𝗠𝗦 » au 06 725 726 00 (non surtaxé)\n〰️〰️ Boutique tenues DANC’ART 〰️〰️\n〰️〰️ https://store.dancart.fr 〰️〰️\n.\n#bachatalille #lille #bachata #dance #ladystyling #ONESTLAAAAA #dancartlille \nJe m’inscris aux cours!
URL:https://www.dancart.fr/cours-de-danse/lundi-cours-de-%f0%9d%97%9f%f0%9d%97%94%f0%9d%97%97%f0%9d%97%ac-%f0%9d%97%a6%f0%9d%97%a7%f0%9d%97%ac%f0%9d%97%9f%f0%9d%97%9c%f0%9d%97%a1%f0%9d%97%9a-%f0%9d%97%95%f0%9d%97%94%f0%9d%97%96%f0%9d%97%9b-54/2024-05-20/
LOCATION:Salle de Danse Villeneuve D’ascq\, 12 Chemin Des Vieux Arbres\, Villeneuve d'Ascq\, 59650\, France
CATEGORIES:Bachata,Lady Styling
ATTACH;FMTTYPE=image/jpeg:https://www.dancart.fr/wp-content/uploads/2022/07/LILLE-MELISSA-TADDEI-1.jpg
END:VEVENT
BEGIN:VEVENT
DTSTART;TZID=Europe/Paris:20240513T200000
DTEND;TZID=Europe/Paris:20240513T210000
DTSTAMP:20260419T153854
CREATED:20220702T144518Z
LAST-MODIFIED:20240604T094930Z
UID:19865-1715630400-1715634000@www.dancart.fr
SUMMARY:Lundi - Cours de Lady Styling Bachata avec Melissa Taddei
DESCRIPTION:𝗩𝗘𝗡𝗘𝗭 𝗗𝗘𝗖𝗢𝗨𝗩𝗥𝗜𝗥 𝗟𝗘 𝗟𝗔𝗗𝗬 𝗦𝗧𝗬𝗟𝗜𝗡𝗚 𝗕𝗔𝗖𝗛𝗔𝗧𝗔\nA VILLENEUVE D’ASCQ avec MELISSA TADDEI\nby ➖ www.dancart.fr ➖\n.\n✅ Tous les Lundis\n▪️20h00 cours Lady Styling bachata\n.\n🔗 Ouvert à toutes\n👠 réservé aux femmes\n🚗 PARKING\n🍹 BAR (licence 4)\n🪞 Miroir\n👗 Vestiaire\n.\n📍 SALLE DE DANSE : 12 Chemin des Vieux Arbres VILLENEUVE D’ASCQ \n〰️〰️〰️ ☎ Infos contact 〰️〰️〰️\nRecevez nos « alertes SMS » envoyez « 𝗦𝗠𝗦 » au 06 725 726 00 (non surtaxé)\n〰️〰️ Boutique tenues DANC’ART 〰️〰️\n〰️〰️ https://store.dancart.fr 〰️〰️\n.\n#bachatalille #lille #bachata #dance #ladystyling #ONESTLAAAAA #dancartlille \nJe m’inscris aux cours!
URL:https://www.dancart.fr/cours-de-danse/lundi-cours-de-%f0%9d%97%9f%f0%9d%97%94%f0%9d%97%97%f0%9d%97%ac-%f0%9d%97%a6%f0%9d%97%a7%f0%9d%97%ac%f0%9d%97%9f%f0%9d%97%9c%f0%9d%97%a1%f0%9d%97%9a-%f0%9d%97%95%f0%9d%97%94%f0%9d%97%96%f0%9d%97%9b-54/2024-05-13/
LOCATION:Salle de Danse Villeneuve D’ascq\, 12 Chemin Des Vieux Arbres\, Villeneuve d'Ascq\, 59650\, France
CATEGORIES:Bachata,Lady Styling
ATTACH;FMTTYPE=image/jpeg:https://www.dancart.fr/wp-content/uploads/2022/07/LILLE-MELISSA-TADDEI-1.jpg
END:VEVENT
BEGIN:VEVENT
DTSTART;TZID=Europe/Paris:20240506T200000
DTEND;TZID=Europe/Paris:20240506T210000
DTSTAMP:20260419T153854
CREATED:20220702T144518Z
LAST-MODIFIED:20240604T094930Z
UID:19864-1715025600-1715029200@www.dancart.fr
SUMMARY:Lundi - Cours de Lady Styling Bachata avec Melissa Taddei
DESCRIPTION:𝗩𝗘𝗡𝗘𝗭 𝗗𝗘𝗖𝗢𝗨𝗩𝗥𝗜𝗥 𝗟𝗘 𝗟𝗔𝗗𝗬 𝗦𝗧𝗬𝗟𝗜𝗡𝗚 𝗕𝗔𝗖𝗛𝗔𝗧𝗔\nA VILLENEUVE D’ASCQ avec MELISSA TADDEI\nby ➖ www.dancart.fr ➖\n.\n✅ Tous les Lundis\n▪️20h00 cours Lady Styling bachata\n.\n🔗 Ouvert à toutes\n👠 réservé aux femmes\n🚗 PARKING\n🍹 BAR (licence 4)\n🪞 Miroir\n👗 Vestiaire\n.\n📍 SALLE DE DANSE : 12 Chemin des Vieux Arbres VILLENEUVE D’ASCQ \n〰️〰️〰️ ☎ Infos contact 〰️〰️〰️\nRecevez nos « alertes SMS » envoyez « 𝗦𝗠𝗦 » au 06 725 726 00 (non surtaxé)\n〰️〰️ Boutique tenues DANC’ART 〰️〰️\n〰️〰️ https://store.dancart.fr 〰️〰️\n.\n#bachatalille #lille #bachata #dance #ladystyling #ONESTLAAAAA #dancartlille \nJe m’inscris aux cours!
URL:https://www.dancart.fr/cours-de-danse/lundi-cours-de-%f0%9d%97%9f%f0%9d%97%94%f0%9d%97%97%f0%9d%97%ac-%f0%9d%97%a6%f0%9d%97%a7%f0%9d%97%ac%f0%9d%97%9f%f0%9d%97%9c%f0%9d%97%a1%f0%9d%97%9a-%f0%9d%97%95%f0%9d%97%94%f0%9d%97%96%f0%9d%97%9b-54/2024-05-06/
LOCATION:Salle de Danse Villeneuve D’ascq\, 12 Chemin Des Vieux Arbres\, Villeneuve d'Ascq\, 59650\, France
CATEGORIES:Bachata,Lady Styling
ATTACH;FMTTYPE=image/jpeg:https://www.dancart.fr/wp-content/uploads/2022/07/LILLE-MELISSA-TADDEI-1.jpg
END:VEVENT
BEGIN:VEVENT
DTSTART;TZID=Europe/Paris:20240429T200000
DTEND;TZID=Europe/Paris:20240429T210000
DTSTAMP:20260419T153854
CREATED:20220702T144518Z
LAST-MODIFIED:20240604T094930Z
UID:19863-1714420800-1714424400@www.dancart.fr
SUMMARY:Lundi - Cours de Lady Styling Bachata avec Melissa Taddei
DESCRIPTION:𝗩𝗘𝗡𝗘𝗭 𝗗𝗘𝗖𝗢𝗨𝗩𝗥𝗜𝗥 𝗟𝗘 𝗟𝗔𝗗𝗬 𝗦𝗧𝗬𝗟𝗜𝗡𝗚 𝗕𝗔𝗖𝗛𝗔𝗧𝗔\nA VILLENEUVE D’ASCQ avec MELISSA TADDEI\nby ➖ www.dancart.fr ➖\n.\n✅ Tous les Lundis\n▪️20h00 cours Lady Styling bachata\n.\n🔗 Ouvert à toutes\n👠 réservé aux femmes\n🚗 PARKING\n🍹 BAR (licence 4)\n🪞 Miroir\n👗 Vestiaire\n.\n📍 SALLE DE DANSE : 12 Chemin des Vieux Arbres VILLENEUVE D’ASCQ \n〰️〰️〰️ ☎ Infos contact 〰️〰️〰️\nRecevez nos « alertes SMS » envoyez « 𝗦𝗠𝗦 » au 06 725 726 00 (non surtaxé)\n〰️〰️ Boutique tenues DANC’ART 〰️〰️\n〰️〰️ https://store.dancart.fr 〰️〰️\n.\n#bachatalille #lille #bachata #dance #ladystyling #ONESTLAAAAA #dancartlille \nJe m’inscris aux cours!
URL:https://www.dancart.fr/cours-de-danse/lundi-cours-de-%f0%9d%97%9f%f0%9d%97%94%f0%9d%97%97%f0%9d%97%ac-%f0%9d%97%a6%f0%9d%97%a7%f0%9d%97%ac%f0%9d%97%9f%f0%9d%97%9c%f0%9d%97%a1%f0%9d%97%9a-%f0%9d%97%95%f0%9d%97%94%f0%9d%97%96%f0%9d%97%9b-54/2024-04-29/
LOCATION:Salle de Danse Villeneuve D’ascq\, 12 Chemin Des Vieux Arbres\, Villeneuve d'Ascq\, 59650\, France
CATEGORIES:Bachata,Lady Styling
ATTACH;FMTTYPE=image/jpeg:https://www.dancart.fr/wp-content/uploads/2022/07/LILLE-MELISSA-TADDEI-1.jpg
END:VEVENT
BEGIN:VEVENT
DTSTART;TZID=Europe/Paris:20240422T200000
DTEND;TZID=Europe/Paris:20240422T210000
DTSTAMP:20260419T153854
CREATED:20220702T144518Z
LAST-MODIFIED:20240604T094929Z
UID:19862-1713816000-1713819600@www.dancart.fr
SUMMARY:Lundi - Cours de Lady Styling Bachata avec Melissa Taddei
DESCRIPTION:𝗩𝗘𝗡𝗘𝗭 𝗗𝗘𝗖𝗢𝗨𝗩𝗥𝗜𝗥 𝗟𝗘 𝗟𝗔𝗗𝗬 𝗦𝗧𝗬𝗟𝗜𝗡𝗚 𝗕𝗔𝗖𝗛𝗔𝗧𝗔\nA VILLENEUVE D’ASCQ avec MELISSA TADDEI\nby ➖ www.dancart.fr ➖\n.\n✅ Tous les Lundis\n▪️20h00 cours Lady Styling bachata\n.\n🔗 Ouvert à toutes\n👠 réservé aux femmes\n🚗 PARKING\n🍹 BAR (licence 4)\n🪞 Miroir\n👗 Vestiaire\n.\n📍 SALLE DE DANSE : 12 Chemin des Vieux Arbres VILLENEUVE D’ASCQ \n〰️〰️〰️ ☎ Infos contact 〰️〰️〰️\nRecevez nos « alertes SMS » envoyez « 𝗦𝗠𝗦 » au 06 725 726 00 (non surtaxé)\n〰️〰️ Boutique tenues DANC’ART 〰️〰️\n〰️〰️ https://store.dancart.fr 〰️〰️\n.\n#bachatalille #lille #bachata #dance #ladystyling #ONESTLAAAAA #dancartlille \nJe m’inscris aux cours!
URL:https://www.dancart.fr/cours-de-danse/lundi-cours-de-%f0%9d%97%9f%f0%9d%97%94%f0%9d%97%97%f0%9d%97%ac-%f0%9d%97%a6%f0%9d%97%a7%f0%9d%97%ac%f0%9d%97%9f%f0%9d%97%9c%f0%9d%97%a1%f0%9d%97%9a-%f0%9d%97%95%f0%9d%97%94%f0%9d%97%96%f0%9d%97%9b-54/2024-04-22/
LOCATION:Salle de Danse Villeneuve D’ascq\, 12 Chemin Des Vieux Arbres\, Villeneuve d'Ascq\, 59650\, France
CATEGORIES:Bachata,Lady Styling
ATTACH;FMTTYPE=image/jpeg:https://www.dancart.fr/wp-content/uploads/2022/07/LILLE-MELISSA-TADDEI-1.jpg
END:VEVENT
BEGIN:VEVENT
DTSTART;TZID=Europe/Paris:20240122T200000
DTEND;TZID=Europe/Paris:20240122T210000
DTSTAMP:20260419T153854
CREATED:20220702T144518Z
LAST-MODIFIED:20240122T161844Z
UID:9199-1705953600-1705957200@www.dancart.fr
SUMMARY:Lundi - Cours de Lady Styling Bachata avec Melissa Taddei
DESCRIPTION:𝗩𝗘𝗡𝗘𝗭 𝗗𝗘𝗖𝗢𝗨𝗩𝗥𝗜𝗥 𝗟𝗘 𝗟𝗔𝗗𝗬 𝗦𝗧𝗬𝗟𝗜𝗡𝗚 𝗕𝗔𝗖𝗛𝗔𝗧𝗔\nA VILLENEUVE D’ASCQ avec MELISSA TADDEI\nby ➖ www.dancart.fr ➖\n.\n✅ Tous les Lundis\n▪️20h00 cours Lady Styling bachata\n.\n🔗 Ouvert à toutes\n👠 réservé aux femmes\n🚗 PARKING\n🍹 BAR (licence 4)\n🪞 Miroir\n👗 Vestiaire\n.\n📍 SALLE DE DANSE : 12 Chemin des Vieux Arbres VILLENEUVE D’ASCQ \n〰️〰️〰️ ☎ Infos contact 〰️〰️〰️\nRecevez nos « alertes SMS » envoyez « 𝗦𝗠𝗦 » au 06 725 726 00 (non surtaxé)\n〰️〰️ Boutique tenues DANC’ART 〰️〰️\n〰️〰️ https://store.dancart.fr 〰️〰️\n.\n#bachatalille #lille #bachata #dance #ladystyling #ONESTLAAAAA #dancartlille \nJe m’inscris aux cours!
URL:https://www.dancart.fr/cours-de-danse/lundi-cours-de-%f0%9d%97%9f%f0%9d%97%94%f0%9d%97%97%f0%9d%97%ac-%f0%9d%97%a6%f0%9d%97%a7%f0%9d%97%ac%f0%9d%97%9f%f0%9d%97%9c%f0%9d%97%a1%f0%9d%97%9a-%f0%9d%97%95%f0%9d%97%94%f0%9d%97%96%f0%9d%97%9b-54/2024-01-22/
LOCATION:Salle de Danse Villeneuve D’ascq\, 12 Chemin Des Vieux Arbres\, Villeneuve d'Ascq\, 59650\, France
CATEGORIES:Bachata,Lady Styling
ATTACH;FMTTYPE=image/jpeg:https://www.dancart.fr/wp-content/uploads/2022/07/LILLE-MELISSA-TADDEI-1.jpg
END:VEVENT
END:VCALENDAR